BEGIN:VCALENDAR
VERSION:2.0
PRODID:-//Prime Vine Winery - ECPv6.15.20//NONSGML v1.0//EN
CALSCALE:GREGORIAN
METHOD:PUBLISH
X-ORIGINAL-URL:https://primevinewinery.com
X-WR-CALDESC:Events for Prime Vine Winery
REFRESH-INTERVAL;VALUE=DURATION:PT1H
X-Robots-Tag:noindex
X-PUBLISHED-TTL:PT1H
BEGIN:VTIMEZONE
TZID:UTC
BEGIN:STANDARD
TZOFFSETFROM:+0000
TZOFFSETTO:+0000
TZNAME:UTC
DTSTART:20220101T000000
END:STANDARD
END:VTIMEZONE
BEGIN:VEVENT
DTSTART;VALUE=DATE:20231007
DTEND;VALUE=DATE:20231008
DTSTAMP:20260423T152613
CREATED:20231005T124332Z
LAST-MODIFIED:20231005T125837Z
UID:185-1696636800-1696723199@primevinewinery.com
SUMMARY:Private Event
DESCRIPTION:Closed for our private event
URL:https://primevinewinery.com/event/private-event/
LOCATION:Prime Vine Winery\, 4332 Manchester Rd\, New Franklin\, OH\, 44319\, United States
CATEGORIES:Private Event
END:VEVENT
BEGIN:VEVENT
DTSTART;TZID=UTC:20231014T180000
DTEND;TZID=UTC:20231014T203000
DTSTAMP:20260423T152613
CREATED:20231005T125643Z
LAST-MODIFIED:20231005T125643Z
UID:189-1697306400-1697315400@primevinewinery.com
SUMMARY:Zero Pressure Music Night
DESCRIPTION:
URL:https://primevinewinery.com/event/zero-pressure-music-night/
LOCATION:Prime Vine Winery\, 4332 Manchester Rd\, New Franklin\, OH\, 44319\, United States
CATEGORIES:Music Night
END:VEVENT
BEGIN:VEVENT
DTSTART;TZID=UTC:20231019T180000
DTEND;TZID=UTC:20231019T203000
DTSTAMP:20260423T152613
CREATED:20231011T172716Z
LAST-MODIFIED:20231016T234444Z
UID:194-1697738400-1697747400@primevinewinery.com
SUMMARY:Venture Wines Fall Wine Dinner
DESCRIPTION:1st Course\ncaramelized pear & & toasted almond tart – frisee salad\nwhite balsamic vinaigrette\nVine 93 White Blend 2016 \n2nd Course\nFall harvest roasted pumpkin bisque\nVenture Russian River Valley Pinot Noir 2013 \n3rd Course\nNonna Linda’s short rib bolognese – ricotta ravioli\nVine 93 Red Blend 2015 \n4th Course\nroasted tenderloin tips – truffle mascarpone polenta\nfall mushroom medley\nVenture Napa Valley Cabernet 2012 \n5th Course\ndark chocolate & drunken cherry bread pudding\ndark chocolate gelato – malden salt\n216 Cuvee Napa Valley Red Blend \n$95 per person\nall wines available for retail
URL:https://primevinewinery.com/event/wine-event/
LOCATION:Prime Vine Winery\, 4332 Manchester Rd\, New Franklin\, OH\, 44319\, United States
CATEGORIES:Wine Tasting
END:VEVENT
BEGIN:VEVENT
DTSTART;TZID=UTC:20231021T180000
DTEND;TZID=UTC:20231021T203000
DTSTAMP:20260423T152613
CREATED:20231005T130048Z
LAST-MODIFIED:20231005T130048Z
UID:190-1697911200-1697920200@primevinewinery.com
SUMMARY:Clyde Hensley Music Night
DESCRIPTION:
URL:https://primevinewinery.com/event/clyde-hensley-music-night/
LOCATION:Prime Vine Winery\, 4332 Manchester Rd\, New Franklin\, OH\, 44319\, United States
CATEGORIES:Music Night
END:VEVENT
BEGIN:VEVENT
DTSTART;TZID=UTC:20231028T180000
DTEND;TZID=UTC:20231028T203000
DTSTAMP:20260423T152613
CREATED:20231005T130437Z
LAST-MODIFIED:20231005T130437Z
UID:191-1698516000-1698525000@primevinewinery.com
SUMMARY:Tom Guarino Music Night
DESCRIPTION:
URL:https://primevinewinery.com/event/tom-guarino-music-night/
LOCATION:Prime Vine Winery\, 4332 Manchester Rd\, New Franklin\, OH\, 44319\, United States
CATEGORIES:Music Night
END:VEVENT
END:VCALENDAR