BEGIN:VCALENDAR
VERSION:2.0
PRODID:-//Prime Vine Winery - ECPv6.15.20//NONSGML v1.0//EN
CALSCALE:GREGORIAN
METHOD:PUBLISH
X-WR-CALNAME:Prime Vine Winery
X-ORIGINAL-URL:https://primevinewinery.com
X-WR-CALDESC:Events for Prime Vine Winery
REFRESH-INTERVAL;VALUE=DURATION:PT1H
X-Robots-Tag:noindex
X-PUBLISHED-TTL:PT1H
BEGIN:VTIMEZONE
TZID:America/New_York
BEGIN:DAYLIGHT
TZOFFSETFROM:-0500
TZOFFSETTO:-0400
TZNAME:EDT
DTSTART:20250309T070000
END:DAYLIGHT
BEGIN:STANDARD
TZOFFSETFROM:-0400
TZOFFSETTO:-0500
TZNAME:EST
DTSTART:20251102T060000
END:STANDARD
BEGIN:DAYLIGHT
TZOFFSETFROM:-0500
TZOFFSETTO:-0400
TZNAME:EDT
DTSTART:20260308T070000
END:DAYLIGHT
BEGIN:STANDARD
TZOFFSETFROM:-0400
TZOFFSETTO:-0500
TZNAME:EST
DTSTART:20261101T060000
END:STANDARD
BEGIN:DAYLIGHT
TZOFFSETFROM:-0500
TZOFFSETTO:-0400
TZNAME:EDT
DTSTART:20270314T070000
END:DAYLIGHT
BEGIN:STANDARD
TZOFFSETFROM:-0400
TZOFFSETTO:-0500
TZNAME:EST
DTSTART:20271107T060000
END:STANDARD
END:VTIMEZONE
BEGIN:VEVENT
DTSTART;TZID=America/New_York:20260318T150000
DTEND;TZID=America/New_York:20260318T210000
DTSTAMP:20260421T104035
CREATED:20260311T130825Z
LAST-MODIFIED:20260311T131200Z
UID:907-1773846000-1773867600@primevinewinery.com
SUMMARY:Opening Day 2026
DESCRIPTION:Spring is in the Air (and in the Glass)\n\n\n\nThe vines are waking up\, and so are we! Prime Vine is back from our January/February hiatus and ready to welcome you home. Our 2026 season kicks off with updated tasting flights\, seasonal pairings\, and the same breathtaking views you’ve been dreaming of all winter. \n\n\n			\n				\n				\n				\n				\n				\nPlan Your Visit: \n\n			\n				\n				\n				\n				\n				\n\n\nHours: 3pm – 9pmFeatured Pour: Vine 93 Red BlendLive Music: Coming Soon! \nBook Your Private Parties & Events with us! \n\n\n \n\n			\n				Learn More About Our Wines!
URL:https://primevinewinery.com/event/opening-day-2026/
LOCATION:Prime Vine Winery\, 4332 Manchester Rd\, New Franklin\, OH\, 44319\, United States
CATEGORIES:News,Special Event
ATTACH;FMTTYPE=image/jpeg:https://primevinewinery.com/wp-content/uploads/2024/04/prime-vine-winery-property.jpg
END:VEVENT
END:VCALENDAR