BEGIN:VCALENDAR
VERSION:2.0
PRODID:-//Prime Vine Winery - ECPv6.15.20//NONSGML v1.0//EN
CALSCALE:GREGORIAN
METHOD:PUBLISH
X-ORIGINAL-URL:https://primevinewinery.com
X-WR-CALDESC:Events for Prime Vine Winery
REFRESH-INTERVAL;VALUE=DURATION:PT1H
X-Robots-Tag:noindex
X-PUBLISHED-TTL:PT1H
BEGIN:VTIMEZONE
TZID:America/New_York
BEGIN:DAYLIGHT
TZOFFSETFROM:-0500
TZOFFSETTO:-0400
TZNAME:EDT
DTSTART:20250309T070000
END:DAYLIGHT
BEGIN:STANDARD
TZOFFSETFROM:-0400
TZOFFSETTO:-0500
TZNAME:EST
DTSTART:20251102T060000
END:STANDARD
BEGIN:DAYLIGHT
TZOFFSETFROM:-0500
TZOFFSETTO:-0400
TZNAME:EDT
DTSTART:20260308T070000
END:DAYLIGHT
BEGIN:STANDARD
TZOFFSETFROM:-0400
TZOFFSETTO:-0500
TZNAME:EST
DTSTART:20261101T060000
END:STANDARD
BEGIN:DAYLIGHT
TZOFFSETFROM:-0500
TZOFFSETTO:-0400
TZNAME:EDT
DTSTART:20270314T070000
END:DAYLIGHT
BEGIN:STANDARD
TZOFFSETFROM:-0400
TZOFFSETTO:-0500
TZNAME:EST
DTSTART:20271107T060000
END:STANDARD
END:VTIMEZONE
BEGIN:VEVENT
DTSTART;TZID=America/New_York:20260214T150000
DTEND;TZID=America/New_York:20260214T210000
DTSTAMP:20260421T093155
CREATED:20260105T202945Z
LAST-MODIFIED:20260105T202951Z
UID:886-1771081200-1771102800@primevinewinery.com
SUMMARY:Valentine’s Day 2026 - Open House in the Mansion
DESCRIPTION:Valentine’s Day Special\n\n\n\n\nWhat is your idea of a perfect Valentines Day? Relaxing by the warm light of a flickering fire? Sipping on the perfect glass of wine while noshing on charcuterie? Soft music? Great conversation with your bestie or valentine? A good book? We have you covered! What can make this even sweeter? How about Charcuterie Boards in our Historic Home? No reservations required! One day only- Saturday\, February 14th! We would for you to be our guest!\nSave the date. More details added soon!\n\n\n\n\n			\n				\n				\n				\n				\n				Historic Elegance Meets Modern Luxury\nThe Main House\, completed in 1919 and now listed on the National Register of Historic Places\, showcases the architectural prowess of its era. Originally owned by the Zimmerly family\, renowned in the meatpacking industry\, this three-story brick mansion underwent a $1 million renovation led by Julie and Jim Pulk. The couple worked tirelessly over four and a half years with Architectural Restoration Renovation Consultants Inc.\, ensuring that the mansion’s original charm and character were preserved while incorporating modern luxuries like six bedrooms each with private baths. \n			\n			\n				\n				\n				\n				\n			\n				\n				\n				\n				\n				\n				\n				\n				\n				\n				\n				\n			\n			\n				\n				\n				\n				\n				\n				\n				\n				\n				\n				\n			\n			\n				\n				\n				\n				\n			\n				\n				\n				\n				\n				\n				\n				\n				\n				\n				\n				An Open Invitation\nUpon your arrival\, make your way to the entrance at the back of the house where the patio doors open to welcome you. Once inside\, feel free to explore the stately first and second floors at your leisure. The mansion’s rich history and intricate details are sure to captivate all who walk its halls. \nCulinary Delights Await\nOur full bar and food menu will be available throughout the event\, featuring a selection of fine wines and a gourmet menu that echoes the estate’s grandeur. Whether you’re a connoisseur or new to the world of wines\, our offerings are designed to enhance your experience at Prime Vine. \nPerfect for Private Events\nLooking for an extraordinary venue for your next private event? The Prime Vine Winery\, with its historic mansion and picturesque grounds\, provides an ideal backdrop for celebrations\, meetings\, and more. Experience the unique ambiance that only a place steeped in history and beauty can provide. Book your event\, or schedule a tour! \nJoin Us\nDon’t miss the opportunity to immerse yourself in the elegance of bygone eras while enjoying the comforts of today. Prime Vine Winery’s Open House is more than just an event; it’s an experience that blends history\, hospitality\, and the finest wines. We look forward to welcoming you to our home and sharing our passion for great wine and rich history. \nFor more information and to RSVP\, fill out our contact form. Dive into the past and toast to the future with us at Prime Vine Winery!
URL:https://primevinewinery.com/event/valentines-day-2026-open-house-in-the-mansion/
LOCATION:Prime Vine Winery\, 4332 Manchester Rd\, New Franklin\, OH\, 44319\, United States
CATEGORIES:Holliday Events,Special Event
ATTACH;FMTTYPE=image/jpeg:https://primevinewinery.com/wp-content/uploads/2024/04/prime-vine-winery-menu.jpg
END:VEVENT
END:VCALENDAR