BEGIN:VCALENDAR
VERSION:2.0
PRODID:-//Prime Vine Winery - ECPv6.15.20//NONSGML v1.0//EN
CALSCALE:GREGORIAN
METHOD:PUBLISH
X-ORIGINAL-URL:https://primevinewinery.com
X-WR-CALDESC:Events for Prime Vine Winery
REFRESH-INTERVAL;VALUE=DURATION:PT1H
X-Robots-Tag:noindex
X-PUBLISHED-TTL:PT1H
BEGIN:VTIMEZONE
TZID:America/New_York
BEGIN:DAYLIGHT
TZOFFSETFROM:-0500
TZOFFSETTO:-0400
TZNAME:EDT
DTSTART:20230312T070000
END:DAYLIGHT
BEGIN:STANDARD
TZOFFSETFROM:-0400
TZOFFSETTO:-0500
TZNAME:EST
DTSTART:20231105T060000
END:STANDARD
BEGIN:DAYLIGHT
TZOFFSETFROM:-0500
TZOFFSETTO:-0400
TZNAME:EDT
DTSTART:20240310T070000
END:DAYLIGHT
BEGIN:STANDARD
TZOFFSETFROM:-0400
TZOFFSETTO:-0500
TZNAME:EST
DTSTART:20241103T060000
END:STANDARD
BEGIN:DAYLIGHT
TZOFFSETFROM:-0500
TZOFFSETTO:-0400
TZNAME:EDT
DTSTART:20250309T070000
END:DAYLIGHT
BEGIN:STANDARD
TZOFFSETFROM:-0400
TZOFFSETTO:-0500
TZNAME:EST
DTSTART:20251102T060000
END:STANDARD
END:VTIMEZONE
BEGIN:VEVENT
DTSTART;TZID=America/New_York:20240503T180000
DTEND;TZID=America/New_York:20240503T203000
DTSTAMP:20260423T112459
CREATED:20240409T162554Z
LAST-MODIFIED:20240409T170025Z
UID:234-1714759200-1714768200@primevinewinery.com
SUMMARY:May 2024 Music Night - Boomers330
DESCRIPTION:Experience a nostalgic musical journey with Boomers330 at Prime Vine Winery’s Music Night. Mike Costello and Tom Wolski will guide you through a memorable evening filled with the legendary sounds of the 60s\, 70s\, and beyond. Their synchronized vocals and engaging performances are set to fill the night with reminiscence and delight. Prime Vine Winery becomes a sanctuary of timeless music with Boomers330 at the helm. Be part of this exceptional night where each song is a trip down memory lane. Witness live acts that capture the essence of the decades and enchant all who attend.
URL:https://primevinewinery.com/event/may-2024-music-night-boomers330/
LOCATION:Prime Vine Winery\, 4332 Manchester Rd\, New Franklin\, OH\, 44319\, United States
CATEGORIES:Music Night
ATTACH;FMTTYPE=image/jpeg:https://primevinewinery.com/wp-content/uploads/2024/03/Boomers-330.jpg
END:VEVENT
END:VCALENDAR