BEGIN:VCALENDAR
VERSION:2.0
PRODID:-//Prime Vine Winery - ECPv6.15.20//NONSGML v1.0//EN
CALSCALE:GREGORIAN
METHOD:PUBLISH
X-ORIGINAL-URL:https://primevinewinery.com
X-WR-CALDESC:Events for Prime Vine Winery
REFRESH-INTERVAL;VALUE=DURATION:PT1H
X-Robots-Tag:noindex
X-PUBLISHED-TTL:PT1H
BEGIN:VTIMEZONE
TZID:America/New_York
BEGIN:DAYLIGHT
TZOFFSETFROM:-0500
TZOFFSETTO:-0400
TZNAME:EDT
DTSTART:20230312T070000
END:DAYLIGHT
BEGIN:STANDARD
TZOFFSETFROM:-0400
TZOFFSETTO:-0500
TZNAME:EST
DTSTART:20231105T060000
END:STANDARD
BEGIN:DAYLIGHT
TZOFFSETFROM:-0500
TZOFFSETTO:-0400
TZNAME:EDT
DTSTART:20240310T070000
END:DAYLIGHT
BEGIN:STANDARD
TZOFFSETFROM:-0400
TZOFFSETTO:-0500
TZNAME:EST
DTSTART:20241103T060000
END:STANDARD
BEGIN:DAYLIGHT
TZOFFSETFROM:-0500
TZOFFSETTO:-0400
TZNAME:EDT
DTSTART:20250309T070000
END:DAYLIGHT
BEGIN:STANDARD
TZOFFSETFROM:-0400
TZOFFSETTO:-0500
TZNAME:EST
DTSTART:20251102T060000
END:STANDARD
END:VTIMEZONE
BEGIN:VEVENT
DTSTART;TZID=America/New_York:20240419T180000
DTEND;TZID=America/New_York:20240419T203000
DTSTAMP:20260423T141856
CREATED:20240409T154507Z
LAST-MODIFIED:20240409T170216Z
UID:226-1713549600-1713558600@primevinewinery.com
SUMMARY:April 2024 Music Night - Grady Miller
DESCRIPTION:Experience the magnetic charm of Grady Miller\, an exceptional duo making waves in the Americana\, Roots\, and Blues scene from Akron\, Ohio. The partnership of Cathy Towns Grady and Michael Grady brings to life a unique musical experience\, enchanting audiences across the country with their beautifully penned original songs. Their eclectic mix navigates effortlessly through the realms of Folk\, Rock\, Blues\, Country\, and even Irish fiddle music\, positioning them at the forefront of the Americana and Singer-Songwriter movement. \nEvery show with Grady Miller is a journey through emotive narratives\, underscored by soulful lyrics and a diverse musical palette. Be prepared for an array of profound emotions and a strong sense of connection fostered by their music. Don’t miss out on this extraordinary adventure where each melody is a heartfelt conversation with the listener.
URL:https://primevinewinery.com/event/april-2024-music-night-grady-miller/
LOCATION:Prime Vine Winery\, 4332 Manchester Rd\, New Franklin\, OH\, 44319\, United States
CATEGORIES:Music Night
ATTACH;FMTTYPE=image/jpeg:https://primevinewinery.com/wp-content/uploads/2024/03/Grady-Miller.jpg
END:VEVENT
END:VCALENDAR