BEGIN:VCALENDAR
VERSION:2.0
PRODID:-//Prime Vine Winery - ECPv6.15.20//NONSGML v1.0//EN
CALSCALE:GREGORIAN
METHOD:PUBLISH
X-WR-CALNAME:Prime Vine Winery
X-ORIGINAL-URL:https://primevinewinery.com
X-WR-CALDESC:Events for Prime Vine Winery
REFRESH-INTERVAL;VALUE=DURATION:PT1H
X-Robots-Tag:noindex
X-PUBLISHED-TTL:PT1H
BEGIN:VTIMEZONE
TZID:America/New_York
BEGIN:DAYLIGHT
TZOFFSETFROM:-0500
TZOFFSETTO:-0400
TZNAME:EDT
DTSTART:20230312T070000
END:DAYLIGHT
BEGIN:STANDARD
TZOFFSETFROM:-0400
TZOFFSETTO:-0500
TZNAME:EST
DTSTART:20231105T060000
END:STANDARD
BEGIN:DAYLIGHT
TZOFFSETFROM:-0500
TZOFFSETTO:-0400
TZNAME:EDT
DTSTART:20240310T070000
END:DAYLIGHT
BEGIN:STANDARD
TZOFFSETFROM:-0400
TZOFFSETTO:-0500
TZNAME:EST
DTSTART:20241103T060000
END:STANDARD
BEGIN:DAYLIGHT
TZOFFSETFROM:-0500
TZOFFSETTO:-0400
TZNAME:EDT
DTSTART:20250309T070000
END:DAYLIGHT
BEGIN:STANDARD
TZOFFSETFROM:-0400
TZOFFSETTO:-0500
TZNAME:EST
DTSTART:20251102T060000
END:STANDARD
END:VTIMEZONE
BEGIN:VEVENT
DTSTART;TZID=America/New_York:20240315T180000
DTEND;TZID=America/New_York:20240315T203000
DTSTAMP:20260423T100731
CREATED:20240303T162015Z
LAST-MODIFIED:20240419T174634Z
UID:206-1710525600-1710534600@primevinewinery.com
SUMMARY:Grady Miller Music Night
DESCRIPTION:Discover Grady Miller\, the dynamic Americana\, Roots\, and Blues duo hailing from Akron\, Ohio.\nCathy Towns Grady and Michael Grady unite to form a mesmerizing musical force\, captivating audiences nationwide with their skillfully crafted original compositions. Their diverse repertoire seamlessly transitions from Folk and Rock to Blues\, Country\, and Irish fiddling\, standing at the heart of the Americana and Singer-Songwriter genres. \nWith each performance\, Grady Miller invites you on an evocative journey\, weaving tales of life with soul-stirring lyrics and a rich blend of musical styles. Prepare to be moved by their intense variety and the deep connection their music fosters. Join us for an unforgettable experience where every note speaks directly to the soul.
URL:https://primevinewinery.com/event/grady-miller-music-night/
LOCATION:Prime Vine Winery\, 4332 Manchester Rd\, New Franklin\, OH\, 44319\, United States
CATEGORIES:Music Night
ATTACH;FMTTYPE=image/jpeg:https://primevinewinery.com/wp-content/uploads/2024/03/Grady-Miller.jpg
END:VEVENT
END:VCALENDAR